BEGIN:VCALENDAR
VERSION:2.0
PRODID:-//Myrtle Beach Events Calendar - ECPv6.15.16.1//NONSGML v1.0//EN
CALSCALE:GREGORIAN
METHOD:PUBLISH
X-ORIGINAL-URL:https://myrtlebeachconventioncenter.com/event-calendar
X-WR-CALDESC:Events for Myrtle Beach Events Calendar
REFRESH-INTERVAL;VALUE=DURATION:PT1H
X-Robots-Tag:noindex
X-PUBLISHED-TTL:PT1H
BEGIN:VTIMEZONE
TZID:America/New_York
BEGIN:DAYLIGHT
TZOFFSETFROM:-0500
TZOFFSETTO:-0400
TZNAME:EDT
DTSTART:20250309T070000
END:DAYLIGHT
BEGIN:STANDARD
TZOFFSETFROM:-0400
TZOFFSETTO:-0500
TZNAME:EST
DTSTART:20251102T060000
END:STANDARD
BEGIN:DAYLIGHT
TZOFFSETFROM:-0500
TZOFFSETTO:-0400
TZNAME:EDT
DTSTART:20260308T070000
END:DAYLIGHT
BEGIN:STANDARD
TZOFFSETFROM:-0400
TZOFFSETTO:-0500
TZNAME:EST
DTSTART:20261101T060000
END:STANDARD
BEGIN:DAYLIGHT
TZOFFSETFROM:-0500
TZOFFSETTO:-0400
TZNAME:EDT
DTSTART:20270314T070000
END:DAYLIGHT
BEGIN:STANDARD
TZOFFSETFROM:-0400
TZOFFSETTO:-0500
TZNAME:EST
DTSTART:20271107T060000
END:STANDARD
END:VTIMEZONE
BEGIN:VEVENT
DTSTART;VALUE=DATE:20260420
DTEND;VALUE=DATE:20260426
DTSTAMP:20260421T131036
CREATED:20260216T162216Z
LAST-MODIFIED:20260216T162512Z
UID:10000033-1776643200-1777161599@myrtlebeachconventioncenter.com
SUMMARY:Singing in the Sun
DESCRIPTION:Singing In The Sun is a 6 day event that includes some Of Christian Music’s greatest artists and world renown speakers. The event takes place in beautiful Myrtle Beach\, South Carolina at the Myrtle Beach Convention Center. Located next to great shopping\, dining\, golfing and beautiful beaches\, Singing In The Sun is your vacation destination that includes the best music around. Make your vacation plans today! \nTickets are available now!\nGet your tickets and join us for Singing In The Sun 2026.
URL:https://myrtlebeachconventioncenter.com/event-calendar/event/singing-in-the-sun/
LOCATION:Myrtle Beach Convention Center\, 2101 North Oak Street\, Myrtle Beach\, SC\, 29577\, United States
CATEGORIES:Public
ATTACH;FMTTYPE=image/png:https://myrtlebeachconventioncenter.com/event-calendar/wp-content/uploads/2026/02/Screenshot-2026-02-16-at-11.23.54-AM.png
ORGANIZER;CN="Abraham Productions":MAILTO:abraham.productions@yahoo.com
END:VEVENT
END:VCALENDAR