BEGIN:VCALENDAR
VERSION:2.0
PRODID:-//Myrtle Beach Events Calendar - ECPv6.15.16.1//NONSGML v1.0//EN
CALSCALE:GREGORIAN
METHOD:PUBLISH
X-WR-CALNAME:Myrtle Beach Events Calendar
X-ORIGINAL-URL:https://myrtlebeachconventioncenter.com/event-calendar
X-WR-CALDESC:Events for Myrtle Beach Events Calendar
REFRESH-INTERVAL;VALUE=DURATION:PT1H
X-Robots-Tag:noindex
X-PUBLISHED-TTL:PT1H
BEGIN:VTIMEZONE
TZID:America/New_York
BEGIN:DAYLIGHT
TZOFFSETFROM:-0500
TZOFFSETTO:-0400
TZNAME:EDT
DTSTART:20250309T070000
END:DAYLIGHT
BEGIN:STANDARD
TZOFFSETFROM:-0400
TZOFFSETTO:-0500
TZNAME:EST
DTSTART:20251102T060000
END:STANDARD
BEGIN:DAYLIGHT
TZOFFSETFROM:-0500
TZOFFSETTO:-0400
TZNAME:EDT
DTSTART:20260308T070000
END:DAYLIGHT
BEGIN:STANDARD
TZOFFSETFROM:-0400
TZOFFSETTO:-0500
TZNAME:EST
DTSTART:20261101T060000
END:STANDARD
BEGIN:DAYLIGHT
TZOFFSETFROM:-0500
TZOFFSETTO:-0400
TZNAME:EDT
DTSTART:20270314T070000
END:DAYLIGHT
BEGIN:STANDARD
TZOFFSETFROM:-0400
TZOFFSETTO:-0500
TZNAME:EST
DTSTART:20271107T060000
END:STANDARD
END:VTIMEZONE
BEGIN:VEVENT
DTSTART;VALUE=DATE:20260712
DTEND;VALUE=DATE:20260717
DTSTAMP:20260421T192603
CREATED:20260216T154214Z
LAST-MODIFIED:20260216T154257Z
UID:10000028-1783814400-1784246399@myrtlebeachconventioncenter.com
SUMMARY:Starpower National Championships
DESCRIPTION:THE WORLDWIDE LEADER\nIn Talent Competitions\nInspiring Performers for Over Three Decades \nOUR MISSION\nStarpower is the premier stage where dancers and performers of all ages and levels from around the world come together to showcase their artistry\, celebrate their passion\, and shine at their fullest potential. \n 
URL:https://myrtlebeachconventioncenter.com/event-calendar/event/starpower-national-championships/
LOCATION:Myrtle Beach Convention Center\, 2101 North Oak Street\, Myrtle Beach\, SC\, 29577\, United States
CATEGORIES:Public
ATTACH;FMTTYPE=image/jpeg:https://myrtlebeachconventioncenter.com/event-calendar/wp-content/uploads/2026/02/516939831_10173996003260206_2263123608190678668_n.jpg
END:VEVENT
END:VCALENDAR