BEGIN:VCALENDAR
VERSION:2.0
PRODID:-//Myrtle Beach Events Calendar - ECPv6.15.16.1//NONSGML v1.0//EN
CALSCALE:GREGORIAN
METHOD:PUBLISH
X-WR-CALNAME:Myrtle Beach Events Calendar
X-ORIGINAL-URL:https://myrtlebeachconventioncenter.com/event-calendar
X-WR-CALDESC:Events for Myrtle Beach Events Calendar
REFRESH-INTERVAL;VALUE=DURATION:PT1H
X-Robots-Tag:noindex
X-PUBLISHED-TTL:PT1H
BEGIN:VTIMEZONE
TZID:America/New_York
BEGIN:DAYLIGHT
TZOFFSETFROM:-0500
TZOFFSETTO:-0400
TZNAME:EDT
DTSTART:20250309T070000
END:DAYLIGHT
BEGIN:STANDARD
TZOFFSETFROM:-0400
TZOFFSETTO:-0500
TZNAME:EST
DTSTART:20251102T060000
END:STANDARD
BEGIN:DAYLIGHT
TZOFFSETFROM:-0500
TZOFFSETTO:-0400
TZNAME:EDT
DTSTART:20260308T070000
END:DAYLIGHT
BEGIN:STANDARD
TZOFFSETFROM:-0400
TZOFFSETTO:-0500
TZNAME:EST
DTSTART:20261101T060000
END:STANDARD
BEGIN:DAYLIGHT
TZOFFSETFROM:-0500
TZOFFSETTO:-0400
TZNAME:EDT
DTSTART:20270314T070000
END:DAYLIGHT
BEGIN:STANDARD
TZOFFSETFROM:-0400
TZOFFSETTO:-0500
TZNAME:EST
DTSTART:20271107T060000
END:STANDARD
END:VTIMEZONE
BEGIN:VEVENT
DTSTART;VALUE=DATE:20260417
DTEND;VALUE=DATE:20260420
DTSTAMP:20260421T113207
CREATED:20260216T150311Z
LAST-MODIFIED:20260216T150311Z
UID:10000020-1776384000-1776643199@myrtlebeachconventioncenter.com
SUMMARY:The Cheer Expo
DESCRIPTION:Welcome to the Expo Grand Finale in Myrtle Beach! We are beyond excited to host you for a weekend of fierce competition\, unforgettable experiences\, and incredible memories. \nOur mission is to create an athlete-first event that not only showcases your talent but also delivers an exciting and high-energy environment that you won’t find anywhere else. From awesome walk-out moments to the stunning production\, we’ve designed this competition with YOU in mind. \nGet ready to compete\, celebrate\, and enjoy everything Myrtle Beach has to offer! \nSee you on the mat!
URL:https://myrtlebeachconventioncenter.com/event-calendar/event/the-cheer-expo/
LOCATION:Myrtle Beach Convention Center\, 2101 North Oak Street\, Myrtle Beach\, SC\, 29577\, United States
CATEGORIES:Public
ATTACH;FMTTYPE=image/png:https://myrtlebeachconventioncenter.com/event-calendar/wp-content/uploads/2026/02/MBCC-Website-700-x-600-px-17.png
END:VEVENT
BEGIN:VEVENT
DTSTART;VALUE=DATE:20260411
DTEND;VALUE=DATE:20260412
DTSTAMP:20260421T113207
CREATED:20260216T175219Z
LAST-MODIFIED:20260216T175343Z
UID:10000049-1775865600-1775951999@myrtlebeachconventioncenter.com
SUMMARY:The US Finals
DESCRIPTION:About The U.S. Finals\nGuaranteed DI/DII splits at ALL locations! The U.S. Finals is a spectacular way to celebrate the accomplishments of your program and end your season together! Uniquely\, The U.S. Finals gives you the opportunity to end your season as a program with teams of all levels. With multiple locations across the country\, your program is able to pick the event that works best for you!
URL:https://myrtlebeachconventioncenter.com/event-calendar/event/the-us-finals/
LOCATION:Myrtle Beach Convention Center\, 2101 North Oak Street\, Myrtle Beach\, SC\, 29577\, United States
CATEGORIES:Public
ATTACH;FMTTYPE=image/jpeg:https://myrtlebeachconventioncenter.com/event-calendar/wp-content/uploads/2026/02/varsity-us-finals-720x600-1.jpg
END:VEVENT
BEGIN:VEVENT
DTSTART;VALUE=DATE:20260410
DTEND;VALUE=DATE:20260413
DTSTAMP:20260421T113207
CREATED:20260216T170530Z
LAST-MODIFIED:20260216T170530Z
UID:10000042-1775779200-1776038399@myrtlebeachconventioncenter.com
SUMMARY:Showstopper Spring Event
DESCRIPTION:THE SHOWSTOPPER EXPERIENCE \nWe design each day of the Showstopper dance competition in Myrtle Beach to be seamless and spectacular. When the details are handled\, your dancers can shine and you can enjoy every second.
URL:https://myrtlebeachconventioncenter.com/event-calendar/event/showstopper-spring-event/
LOCATION:Myrtle Beach Convention Center\, 2101 North Oak Street\, Myrtle Beach\, SC\, 29577\, United States
CATEGORIES:Public
ATTACH;FMTTYPE=image/jpeg:https://myrtlebeachconventioncenter.com/event-calendar/wp-content/uploads/2026/02/@2x_1SS_Thumb.jpg
END:VEVENT
BEGIN:VEVENT
DTSTART;VALUE=DATE:20260404
DTEND;VALUE=DATE:20260406
DTSTAMP:20260421T113207
CREATED:20260224T133035Z
LAST-MODIFIED:20260224T133035Z
UID:10000050-1775260800-1775433599@myrtlebeachconventioncenter.com
SUMMARY:Coastal Carolina Con
DESCRIPTION:Coastal-Carolina Con is more than just a card show; it is a dedicated effort to elevate the collector experience across the Grand Strand. We bring together enthusiasts\, vendors\, and families to celebrate the culture of collecting\, but our true mission is to leave the community better than we found it. At every event we host\, we prioritize integrity\, inclusivity\, and passion\, creating a safe and vibrant atmosphere where seasoned veterans and new hobbyists alike can connect. By fostering fair trade\, supporting local vendors\, and championing the joy of the hunt\, we ensure that Coastal-Carolina Con isn’t just an event you attend—it is a community you build together.
URL:https://myrtlebeachconventioncenter.com/event-calendar/event/coastal-carolina-con/
LOCATION:Myrtle Beach Convention Center\, 2101 North Oak Street\, Myrtle Beach\, SC\, 29577\, United States
CATEGORIES:Public
ATTACH;FMTTYPE=image/jpeg:https://myrtlebeachconventioncenter.com/event-calendar/wp-content/uploads/2026/02/612304767_122150600630937065_5945427209092015989_n.jpg
END:VEVENT
BEGIN:VEVENT
DTSTART;VALUE=DATE:20260327
DTEND;VALUE=DATE:20260330
DTSTAMP:20260421T113207
CREATED:20260216T170909Z
LAST-MODIFIED:20260216T170909Z
UID:10000043-1774569600-1774828799@myrtlebeachconventioncenter.com
SUMMARY:Battle at the Beach
DESCRIPTION:Through a commitment to excellence\, a culture of encouragement and a collective enthusiasm\, Varsity Spirit is a global force for school spirit\, athletic achievement and student success. By providing premium products and organizing world class experiences for cheer\, dance\, performing arts\, and yearbook\, this organization is unsurpassed in its mission of elevating student and athlete experiences while setting the standard for spirit around the world.
URL:https://myrtlebeachconventioncenter.com/event-calendar/event/battle-at-the-beach/
LOCATION:Myrtle Beach Convention Center\, 2101 North Oak Street\, Myrtle Beach\, SC\, 29577\, United States
CATEGORIES:Public
ATTACH;FMTTYPE=image/jpeg:https://myrtlebeachconventioncenter.com/event-calendar/wp-content/uploads/2026/02/557856998_1217331753756566_2649682758067842122_n.jpg
END:VEVENT
END:VCALENDAR