BEGIN:VCALENDAR
VERSION:2.0
PRODID:-//Myrtle Beach Events Calendar - ECPv6.15.16.1//NONSGML v1.0//EN
CALSCALE:GREGORIAN
METHOD:PUBLISH
X-ORIGINAL-URL:https://myrtlebeachconventioncenter.com/event-calendar
X-WR-CALDESC:Events for Myrtle Beach Events Calendar
REFRESH-INTERVAL;VALUE=DURATION:PT1H
X-Robots-Tag:noindex
X-PUBLISHED-TTL:PT1H
BEGIN:VTIMEZONE
TZID:America/New_York
BEGIN:DAYLIGHT
TZOFFSETFROM:-0500
TZOFFSETTO:-0400
TZNAME:EDT
DTSTART:20250309T070000
END:DAYLIGHT
BEGIN:STANDARD
TZOFFSETFROM:-0400
TZOFFSETTO:-0500
TZNAME:EST
DTSTART:20251102T060000
END:STANDARD
BEGIN:DAYLIGHT
TZOFFSETFROM:-0500
TZOFFSETTO:-0400
TZNAME:EDT
DTSTART:20260308T070000
END:DAYLIGHT
BEGIN:STANDARD
TZOFFSETFROM:-0400
TZOFFSETTO:-0500
TZNAME:EST
DTSTART:20261101T060000
END:STANDARD
BEGIN:DAYLIGHT
TZOFFSETFROM:-0500
TZOFFSETTO:-0400
TZNAME:EDT
DTSTART:20270314T070000
END:DAYLIGHT
BEGIN:STANDARD
TZOFFSETFROM:-0400
TZOFFSETTO:-0500
TZNAME:EST
DTSTART:20271107T060000
END:STANDARD
END:VTIMEZONE
BEGIN:VEVENT
DTSTART;VALUE=DATE:20260718
DTEND;VALUE=DATE:20260723
DTSTAMP:20260421T192744
CREATED:20260216T152625Z
LAST-MODIFIED:20260216T152642Z
UID:10000026-1784332800-1784764799@myrtlebeachconventioncenter.com
SUMMARY:Nexstar 2026 Nationals
DESCRIPTION:Featuring over 250\,000 square feet\, the Myrtle Beach Convention Center is much more than a beautiful coastal convention center. Located on South Carolina’s coast where the allure of a top-ranking beach vacation destination provides our planners and attendees with an unforgettable and non-traditional convention or trade show experience. As one of the largest southeast convention centers\, the Myrtle Beach Convention Center has the versatile convention space that meeting planners and show producers are seeking. \nBook Your Room With Us \nWith DanceOne Travel powered by EventPipe\, you can: \n\nBook multiple rooms in one easy transaction\nManage all your reservations across DanceOne events in one place\nEdit guest info\, make changes\, or cancel directly through your account—no need to call anyone\nView real-time hotel availability and get instant EventPipe confirmation when you book\n\nSimply click the link below for your event\, follow the prompts\, and secure your rooms in just a few minutes! \nANY questions should be directed to hotels@dance.one
URL:https://myrtlebeachconventioncenter.com/event-calendar/event/nexstar-2026-nationals/
LOCATION:Myrtle Beach Convention Center\, 2101 North Oak Street\, Myrtle Beach\, SC\, 29577\, United States
CATEGORIES:Public
ATTACH;FMTTYPE=image/png:https://myrtlebeachconventioncenter.com/event-calendar/wp-content/uploads/2026/02/MBCC-Website-700-x-600-px-10.png
END:VEVENT
END:VCALENDAR