BEGIN:VCALENDAR
VERSION:2.0
PRODID:-//Myrtle Beach Events Calendar - ECPv6.15.16.1//NONSGML v1.0//EN
CALSCALE:GREGORIAN
METHOD:PUBLISH
X-WR-CALNAME:Myrtle Beach Events Calendar
X-ORIGINAL-URL:https://myrtlebeachconventioncenter.com/event-calendar
X-WR-CALDESC:Events for Myrtle Beach Events Calendar
REFRESH-INTERVAL;VALUE=DURATION:PT1H
X-Robots-Tag:noindex
X-PUBLISHED-TTL:PT1H
BEGIN:VTIMEZONE
TZID:America/New_York
BEGIN:DAYLIGHT
TZOFFSETFROM:-0500
TZOFFSETTO:-0400
TZNAME:EDT
DTSTART:20250309T070000
END:DAYLIGHT
BEGIN:STANDARD
TZOFFSETFROM:-0400
TZOFFSETTO:-0500
TZNAME:EST
DTSTART:20251102T060000
END:STANDARD
BEGIN:DAYLIGHT
TZOFFSETFROM:-0500
TZOFFSETTO:-0400
TZNAME:EDT
DTSTART:20260308T070000
END:DAYLIGHT
BEGIN:STANDARD
TZOFFSETFROM:-0400
TZOFFSETTO:-0500
TZNAME:EST
DTSTART:20261101T060000
END:STANDARD
BEGIN:DAYLIGHT
TZOFFSETFROM:-0500
TZOFFSETTO:-0400
TZNAME:EDT
DTSTART:20270314T070000
END:DAYLIGHT
BEGIN:STANDARD
TZOFFSETFROM:-0400
TZOFFSETTO:-0500
TZNAME:EST
DTSTART:20271107T060000
END:STANDARD
END:VTIMEZONE
BEGIN:VEVENT
DTSTART;VALUE=DATE:20261019
DTEND;VALUE=DATE:20261023
DTSTAMP:20260421T192811
CREATED:20260216T145027Z
LAST-MODIFIED:20260216T145115Z
UID:10000016-1792368000-1792713599@myrtlebeachconventioncenter.com
SUMMARY:Capstone
DESCRIPTION:We Center the Success of Our Members in All We Do\nCapstone not only provides exclusive pricing on the supplies your organization needs\, but also optimizes your supply chain management. As a Capstone Member\, you will receive top dollar savings and value\, and have access to so much more. Between cost-saving and cost-avoidant contracts\, a dedicated Capstone Member Services Team\, Business Analytics\, and unique Educational opportunities\, joining Capstone is a strategic solution for your organization and an investment in your success. \n\n\nWith the collective purchasing power of our Members\, Capstone contracting agents negotiate deep discounts\, favorable terms\, and priority service from an expanding array of vendors\, allowing you to confidently work with the highest caliber Suppliers\, all the while knowing you have saved your company both time and money. \nOn average\, a business that utilizes Capstone contracts can expect to save 10%-40% on goods and services\, both new and many already in use. Capstone assists our Members in securing over $80M in savings and value each year.  \n\n\nNot only does Capstone optimize your purchasing power as an industry-leading GPO\, as a Capstone Member\, you receive exclusive additional benefits. \nWe are proud to provide each of our Members a dedicated Director of Member Services to help you navigate our robust catalog of Supplier partners and the savings available to you. Your Director will become an extension of your supply chain team\, supporting you through every step. \nWe are committed to empowering the next generation of healthcare leaders. The Capstone Education Library provides continuing educational opportunities to our Members at no additional cost. Connecting with a community of industry-leading experts can expand your knowledge and elevate your team Members to new heights. \nCapstone’s Business Analytics is tailored uniquely to your organization\, empowering you to execute precise and thorough supply chain strategies. Our data is customized to address your specific needs\, providing valuable insights to elevate your competitive edge.
URL:https://myrtlebeachconventioncenter.com/event-calendar/event/capstone/
LOCATION:Myrtle Beach Convention Center\, 2101 North Oak Street\, Myrtle Beach\, SC\, 29577\, United States
CATEGORIES:Private
ATTACH;FMTTYPE=image/png:https://myrtlebeachconventioncenter.com/event-calendar/wp-content/uploads/2026/02/MBCC-Website-700-x-600-px-24.png
END:VEVENT
BEGIN:VEVENT
DTSTART;VALUE=DATE:20261023
DTEND;VALUE=DATE:20261025
DTSTAMP:20260421T192811
CREATED:20260216T170053Z
LAST-MODIFIED:20260216T170135Z
UID:10000040-1792713600-1792886399@myrtlebeachconventioncenter.com
SUMMARY:Myrtle Beach RV Show
DESCRIPTION:Featuring the very latest makes and models of Recreational Vehicles from all of the nations top manufacturers. Special factory rebates\, financing\, and on the spot loan approval makes this show a can’t miss for the serious RV enthusiasts!
URL:https://myrtlebeachconventioncenter.com/event-calendar/event/myrtle-beach-rv-show/
LOCATION:Myrtle Beach Convention Center\, 2101 North Oak Street\, Myrtle Beach\, SC\, 29577\, United States
CATEGORIES:Public
ATTACH;FMTTYPE=image/png:https://myrtlebeachconventioncenter.com/event-calendar/wp-content/uploads/2026/02/Screenshot-2026-02-16-at-12.00.02-PM.png
END:VEVENT
BEGIN:VEVENT
DTSTART;VALUE=DATE:20261027
DTEND;VALUE=DATE:20261031
DTSTAMP:20260421T192811
CREATED:20260216T143528Z
LAST-MODIFIED:20260216T143651Z
UID:10000013-1793059200-1793404799@myrtlebeachconventioncenter.com
SUMMARY:South Carolina EdTech 2026
DESCRIPTION:The SC EdTech Conference aims to unite educators\, administrators\, technology professionals\, and industry representatives to enhance the use of educational technology in dynamic learning environments. It features over 200 professional development and training sessions\, including key events like the Women in Technology Leadership Breakfast & Summit and new networking sessions.
URL:https://myrtlebeachconventioncenter.com/event-calendar/event/south-carolina-edtech-2026/
LOCATION:Myrtle Beach Convention Center\, 2101 North Oak Street\, Myrtle Beach\, SC\, 29577\, United States
CATEGORIES:Private
ATTACH;FMTTYPE=image/png:https://myrtlebeachconventioncenter.com/event-calendar/wp-content/uploads/2026/02/MBCC-Website-700-x-600-px-27.png
END:VEVENT
BEGIN:VEVENT
DTSTART;VALUE=DATE:20261031
DTEND;VALUE=DATE:20261102
DTSTAMP:20260421T192811
CREATED:20260216T154648Z
LAST-MODIFIED:20260216T154648Z
UID:10000029-1793404800-1793577599@myrtlebeachconventioncenter.com
SUMMARY:C & E Gun Show
DESCRIPTION:Public Information:\nAdmission fee: $12.00 per adult\, children 12 and under FREE\nShow hours: Saturday 9 am – 5 pm\nSunday 10 am – 4 pm \nVendor Information:\n500 8′ tables\, $75.00 per table\, electric $95.00\nSet up hours: Friday 12 pm – 8 pm\nSaturday 7 am – 9 am \nOur Mission\nAt C & E Gun Shows\, Inc.\, our mission is to provide a safe\, fun\, and inclusive environment for you to buy\, sell or trade shooting sport or personal protection items. We have successfully been running gun shows since 1986 and we look forward to serving you for years to come.
URL:https://myrtlebeachconventioncenter.com/event-calendar/event/c-e-gun-show/
LOCATION:Myrtle Beach Convention Center\, 2101 North Oak Street\, Myrtle Beach\, SC\, 29577\, United States
CATEGORIES:Public
ATTACH;FMTTYPE=image/png:https://myrtlebeachconventioncenter.com/event-calendar/wp-content/uploads/2026/02/MBCC-Website-700-x-600-px-7.png
END:VEVENT
BEGIN:VEVENT
DTSTART;VALUE=DATE:20261106
DTEND;VALUE=DATE:20261109
DTSTAMP:20260421T192811
CREATED:20260216T140022Z
LAST-MODIFIED:20260216T140022Z
UID:10000007-1793923200-1794182399@myrtlebeachconventioncenter.com
SUMMARY:Showstopper Dance Convention
DESCRIPTION:Our hometown show is just blocks from the beach and boardwalk—bringing coastal energy\, big talent\, and a whole lot of Showstopper spirit. \nParking + Venue Details included the “Know Before You Go”– released 3 days before the event. \nHost Hotels: Book your room directly at the venue for the ultimate convenience. Enjoy exclusive discounted rates and stay just steps away from the stage. \nOur 2026 dance competition in Myrtle Beach is projected to sell out before the registration deadline\, so don’t wait!
URL:https://myrtlebeachconventioncenter.com/event-calendar/event/showstopper-dance-convention/
LOCATION:Myrtle Beach Convention Center\, 2101 North Oak Street\, Myrtle Beach\, SC\, 29577\, United States
CATEGORIES:Public
ATTACH;FMTTYPE=image/jpeg:https://myrtlebeachconventioncenter.com/event-calendar/wp-content/uploads/2026/02/@2x_1SS_Thumb.jpg
END:VEVENT
BEGIN:VEVENT
DTSTART;VALUE=DATE:20261112
DTEND;VALUE=DATE:20261116
DTSTAMP:20260421T192811
CREATED:20260224T203643Z
LAST-MODIFIED:20260224T204332Z
UID:10000150-1794441600-1794787199@myrtlebeachconventioncenter.com
SUMMARY:Dickens Christmas Show & Festival
DESCRIPTION:The Dickens Christmas Show & Festivals is a unique national award-winning event comprised of a multitude of shopping and entertainment options\, for individuals and groups alike. The cornerstone of the event is a Victorian Holiday Marketplace held in the 100\,800 sq. ft. exhibit hall of the Myrtle Beach Convention Center. \n\n\n\n\n \nHere against a Victorian Holiday background\, one will find 400 plus period clad vendors hawking everything from jewelry\, crafts\, gifts\, toys\, art\, gourmet foods\, holiday décor\, and much much more. There is truly something for everyone on your holiday list\, but the fun doesn’t stop there! Strolling Victorian Musicians\, Tea Leaf Readers\, Punch & Judy Shows\, Shadow Box Displays\, a Life-Sized Historic Santa through the Ages Exhibit\, and a real live Santa\, each lend their own charm to the show. Adding to the experience are the elaborate Festival displays of Trees\, Tables\, Wreaths\,  Worlds\, and Stockings. All displays are available for purchase at silent auction with 100% of the funds going to the sponsoring non-profit. \nOff-site offerings include\, Ripley’s Aquarium\, Hollywood Wax Museum\, Barefoot Queen Riverboat Cruise\, Historical Tours and the opening of Holiday Shows at award winning local theaters. \nBack by popular demand is the “The Victorian Snow Globe Challenge” with a chance to win 100 presents and “Scrooge’s Hunt for the Missing Presents” which will both be held on the show floor for any one that chooses to participate. \nNo matter your taste or budget\, this event offers something for everyone. Whether it’s a day’s excursion or a long weekend getaway\, the Dickens Christmas Show & Festivals is the perfect way to kick off your Holiday Season… Dickens Style! \nMake plans to join the many that come year after year!”
URL:https://myrtlebeachconventioncenter.com/event-calendar/event/dickens-christmas-show-festival-3/
LOCATION:Myrtle Beach Convention Center\, 2101 North Oak Street\, Myrtle Beach\, SC\, 29577\, United States
CATEGORIES:Public
ATTACH;FMTTYPE=image/png:https://myrtlebeachconventioncenter.com/event-calendar/wp-content/uploads/2026/02/Screenshot-2026-02-24-at-3.42.10-PM.png
END:VEVENT
BEGIN:VEVENT
DTSTART;VALUE=DATE:20261116
DTEND;VALUE=DATE:20261119
DTSTAMP:20260421T192811
CREATED:20260216T150042Z
LAST-MODIFIED:20260216T150042Z
UID:10000019-1794787200-1795046399@myrtlebeachconventioncenter.com
SUMMARY:Carolina Golf Course Superintendents
DESCRIPTION:Knowledge is power and the Carolinas GCSA provides extensive services and opportunities to put members in the driving seat with access to education on a comprehensive range of subjects. \nEach year\, the association provides a series of low-cost\, easy access day-long seminars across the region. These seminars are in addition to a series of larger association meetings held throughout the year which provide high quality education and networking opportunities. \nThese programs offer year-round access to professional development and help round out the most extensive regional education slate in the country culminating with our annual Conference and Trade Show in Myrtle Beach\, SC each November\, which offers more than 100 hours of formal learning every year. The quality and timeliness of our education program is helped enormously by excellent cooperative relationships with the turfgrass schools and research departments at institutions such as Clemson and North Carolina State universities.
URL:https://myrtlebeachconventioncenter.com/event-calendar/event/carolina-golf-course-superintendents/
LOCATION:Myrtle Beach Convention Center\, 2101 North Oak Street\, Myrtle Beach\, SC\, 29577\, United States
CATEGORIES:Public
ATTACH;FMTTYPE=image/png:https://myrtlebeachconventioncenter.com/event-calendar/wp-content/uploads/2026/02/MBCC-Website-700-x-600-px-18.png
END:VEVENT
BEGIN:VEVENT
DTSTART;VALUE=DATE:20261206
DTEND;VALUE=DATE:20261210
DTSTAMP:20260421T192811
CREATED:20260216T144345Z
LAST-MODIFIED:20260216T144540Z
UID:10000015-1796515200-1796860799@myrtlebeachconventioncenter.com
SUMMARY:Grand Strand Gift Show
DESCRIPTION:THE LARGEST COASTAL SOUVENIR TRADE SHOW IN THE NATION \nIf you’re retail business is located in a beach town and you are looking for the latest souvenir\, resort and gift merchandise\, this is the show for you! As the largest coastal souvenir tradeshow in the nation\, the Grand Strand Gift & Resort Merchandise Show is the best place to shop the best selection of established lines\, top sellers and breaking new product introductions from proven gift and souvenir manufacturers and sales representatives. \nAttending this regional show is not only easier on your wallet but provides the perfect opportunity to get business done efficiently and spend less time away from your store.
URL:https://myrtlebeachconventioncenter.com/event-calendar/event/grand-strand-gift-show/
LOCATION:Myrtle Beach Convention Center\, 2101 North Oak Street\, Myrtle Beach\, SC\, 29577\, United States
CATEGORIES:Private
ATTACH;FMTTYPE=image/png:https://myrtlebeachconventioncenter.com/event-calendar/wp-content/uploads/2026/02/MBCC-Website-700-x-600-px-25.png
END:VEVENT
BEGIN:VEVENT
DTSTART;VALUE=DATE:20261211
DTEND;VALUE=DATE:20261214
DTSTAMP:20260421T192811
CREATED:20260216T143901Z
LAST-MODIFIED:20260216T143927Z
UID:10000014-1796947200-1797206399@myrtlebeachconventioncenter.com
SUMMARY:Myrtle Beach Cup
DESCRIPTION:5\,000 Custom Medals – 100% AA – 50% events\nAll levels in the same location\nGirls all levels Xcel to Elite\n1\,200 competitors\nEarly registration discount!\nGreat Coaches Party\nDelicious food provided in Coach’s Hospitality Area.\nOnline Live Scoring\nFREE Apple Watch for every team with 50+ entires\nInstitutional Awards: Xcel Team Champion: 70″ TV (all Xcel levels combined)\nFREE event T-Shirt for all gymnasts!\nUSEFUL GIFTS for the Coaches!
URL:https://myrtlebeachconventioncenter.com/event-calendar/event/myrtle-beach-cup/
LOCATION:Myrtle Beach Convention Center\, 2101 North Oak Street\, Myrtle Beach\, SC\, 29577\, United States
CATEGORIES:Public
ATTACH;FMTTYPE=image/png:https://myrtlebeachconventioncenter.com/event-calendar/wp-content/uploads/2026/02/MBCC-Website-700-x-600-px-26.png
END:VEVENT
END:VCALENDAR