BEGIN:VCALENDAR
VERSION:2.0
PRODID:-//Myrtle Beach Events Calendar - ECPv6.15.16.1//NONSGML v1.0//EN
CALSCALE:GREGORIAN
METHOD:PUBLISH
X-WR-CALNAME:Myrtle Beach Events Calendar
X-ORIGINAL-URL:https://myrtlebeachconventioncenter.com/event-calendar
X-WR-CALDESC:Events for Myrtle Beach Events Calendar
REFRESH-INTERVAL;VALUE=DURATION:PT1H
X-Robots-Tag:noindex
X-PUBLISHED-TTL:PT1H
BEGIN:VTIMEZONE
TZID:America/New_York
BEGIN:DAYLIGHT
TZOFFSETFROM:-0500
TZOFFSETTO:-0400
TZNAME:EDT
DTSTART:20250309T070000
END:DAYLIGHT
BEGIN:STANDARD
TZOFFSETFROM:-0400
TZOFFSETTO:-0500
TZNAME:EST
DTSTART:20251102T060000
END:STANDARD
BEGIN:DAYLIGHT
TZOFFSETFROM:-0500
TZOFFSETTO:-0400
TZNAME:EDT
DTSTART:20260308T070000
END:DAYLIGHT
BEGIN:STANDARD
TZOFFSETFROM:-0400
TZOFFSETTO:-0500
TZNAME:EST
DTSTART:20261101T060000
END:STANDARD
BEGIN:DAYLIGHT
TZOFFSETFROM:-0500
TZOFFSETTO:-0400
TZNAME:EDT
DTSTART:20270314T070000
END:DAYLIGHT
BEGIN:STANDARD
TZOFFSETFROM:-0400
TZOFFSETTO:-0500
TZNAME:EST
DTSTART:20271107T060000
END:STANDARD
END:VTIMEZONE
BEGIN:VEVENT
DTSTART;TZID=America/New_York:20260418T100000
DTEND;TZID=America/New_York:20260418T170000
DTSTAMP:20260421T181754
CREATED:20260216T162948Z
LAST-MODIFIED:20260216T162948Z
UID:10000034-1776506400-1776531600@myrtlebeachconventioncenter.com
SUMMARY:Grand Strand Vendors
DESCRIPTION:Myrtle Beach Convention Center – Exhibit Hall A – April 18\, 2026\n10:00 AM – 5:00 PM \n\n\n\n\n\n\nTo Benefit: \nKind Keepers Animal Rescue & Help 4 Kids \n\n\n\nSponsored by the Carolina Forest Business Group & CFBG Giving Back
URL:https://myrtlebeachconventioncenter.com/event-calendar/event/grand-strand-vendors/
LOCATION:Myrtle Beach Convention Center\, 2101 North Oak Street\, Myrtle Beach\, SC\, 29577\, United States
CATEGORIES:Private
ATTACH;FMTTYPE=image/png:https://myrtlebeachconventioncenter.com/event-calendar/wp-content/uploads/2026/02/Screenshot-2026-02-16-at-11.27.33-AM.png
END:VEVENT
END:VCALENDAR