BEGIN:VCALENDAR
VERSION:2.0
PRODID:-//Myrtle Beach Events Calendar - ECPv6.15.16.1//NONSGML v1.0//EN
CALSCALE:GREGORIAN
METHOD:PUBLISH
X-ORIGINAL-URL:https://myrtlebeachconventioncenter.com/event-calendar
X-WR-CALDESC:Events for Myrtle Beach Events Calendar
REFRESH-INTERVAL;VALUE=DURATION:PT1H
X-Robots-Tag:noindex
X-PUBLISHED-TTL:PT1H
BEGIN:VTIMEZONE
TZID:America/New_York
BEGIN:DAYLIGHT
TZOFFSETFROM:-0500
TZOFFSETTO:-0400
TZNAME:EDT
DTSTART:20250309T070000
END:DAYLIGHT
BEGIN:STANDARD
TZOFFSETFROM:-0400
TZOFFSETTO:-0500
TZNAME:EST
DTSTART:20251102T060000
END:STANDARD
BEGIN:DAYLIGHT
TZOFFSETFROM:-0500
TZOFFSETTO:-0400
TZNAME:EDT
DTSTART:20260308T070000
END:DAYLIGHT
BEGIN:STANDARD
TZOFFSETFROM:-0400
TZOFFSETTO:-0500
TZNAME:EST
DTSTART:20261101T060000
END:STANDARD
BEGIN:DAYLIGHT
TZOFFSETFROM:-0500
TZOFFSETTO:-0400
TZNAME:EDT
DTSTART:20270314T070000
END:DAYLIGHT
BEGIN:STANDARD
TZOFFSETFROM:-0400
TZOFFSETTO:-0500
TZNAME:EST
DTSTART:20271107T060000
END:STANDARD
END:VTIMEZONE
BEGIN:VEVENT
DTSTART;VALUE=DATE:20260410
DTEND;VALUE=DATE:20260413
DTSTAMP:20260421T131121
CREATED:20260216T170530Z
LAST-MODIFIED:20260216T170530Z
UID:10000042-1775779200-1776038399@myrtlebeachconventioncenter.com
SUMMARY:Showstopper Spring Event
DESCRIPTION:THE SHOWSTOPPER EXPERIENCE \nWe design each day of the Showstopper dance competition in Myrtle Beach to be seamless and spectacular. When the details are handled\, your dancers can shine and you can enjoy every second.
URL:https://myrtlebeachconventioncenter.com/event-calendar/event/showstopper-spring-event/
LOCATION:Myrtle Beach Convention Center\, 2101 North Oak Street\, Myrtle Beach\, SC\, 29577\, United States
CATEGORIES:Public
ATTACH;FMTTYPE=image/jpeg:https://myrtlebeachconventioncenter.com/event-calendar/wp-content/uploads/2026/02/@2x_1SS_Thumb.jpg
END:VEVENT
END:VCALENDAR