BEGIN:VCALENDAR
VERSION:2.0
PRODID:-//Myrtle Beach Events Calendar - ECPv6.15.16.1//NONSGML v1.0//EN
CALSCALE:GREGORIAN
METHOD:PUBLISH
X-WR-CALNAME:Myrtle Beach Events Calendar
X-ORIGINAL-URL:https://myrtlebeachconventioncenter.com/event-calendar
X-WR-CALDESC:Events for Myrtle Beach Events Calendar
REFRESH-INTERVAL;VALUE=DURATION:PT1H
X-Robots-Tag:noindex
X-PUBLISHED-TTL:PT1H
BEGIN:VTIMEZONE
TZID:America/New_York
BEGIN:DAYLIGHT
TZOFFSETFROM:-0500
TZOFFSETTO:-0400
TZNAME:EDT
DTSTART:20250309T070000
END:DAYLIGHT
BEGIN:STANDARD
TZOFFSETFROM:-0400
TZOFFSETTO:-0500
TZNAME:EST
DTSTART:20251102T060000
END:STANDARD
BEGIN:DAYLIGHT
TZOFFSETFROM:-0500
TZOFFSETTO:-0400
TZNAME:EDT
DTSTART:20260308T070000
END:DAYLIGHT
BEGIN:STANDARD
TZOFFSETFROM:-0400
TZOFFSETTO:-0500
TZNAME:EST
DTSTART:20261101T060000
END:STANDARD
BEGIN:DAYLIGHT
TZOFFSETFROM:-0500
TZOFFSETTO:-0400
TZNAME:EDT
DTSTART:20270314T070000
END:DAYLIGHT
BEGIN:STANDARD
TZOFFSETFROM:-0400
TZOFFSETTO:-0500
TZNAME:EST
DTSTART:20271107T060000
END:STANDARD
END:VTIMEZONE
BEGIN:VEVENT
DTSTART;VALUE=DATE:20260801
DTEND;VALUE=DATE:20260802
DTSTAMP:20260421T211122
CREATED:20260216T164604Z
LAST-MODIFIED:20260216T164604Z
UID:10000038-1785542400-1785628799@myrtlebeachconventioncenter.com
SUMMARY:New Breed Promotions Championship
DESCRIPTION:For Those Who Roll\nA TOURNAMENT LIKE NO OTHER\nFrom first-time competitors to seasoned grapplers—NEWBREED delivers the most professional\, inclusive\, and electrifying tournament experience in the country.\nMORE TBA
URL:https://myrtlebeachconventioncenter.com/event-calendar/event/new-breed-promotions-championship/
LOCATION:Myrtle Beach Convention Center\, 2101 North Oak Street\, Myrtle Beach\, SC\, 29577\, United States
CATEGORIES:Public
ATTACH;FMTTYPE=image/png:https://myrtlebeachconventioncenter.com/event-calendar/wp-content/uploads/2026/02/MBCC-Website-700-x-600-px-17-1.png
END:VEVENT
END:VCALENDAR