BEGIN:VCALENDAR
VERSION:2.0
PRODID:-//Myrtle Beach Events Calendar - ECPv6.15.16.1//NONSGML v1.0//EN
CALSCALE:GREGORIAN
METHOD:PUBLISH
X-ORIGINAL-URL:https://myrtlebeachconventioncenter.com/event-calendar
X-WR-CALDESC:Events for Myrtle Beach Events Calendar
REFRESH-INTERVAL;VALUE=DURATION:PT1H
X-Robots-Tag:noindex
X-PUBLISHED-TTL:PT1H
BEGIN:VTIMEZONE
TZID:America/New_York
BEGIN:DAYLIGHT
TZOFFSETFROM:-0500
TZOFFSETTO:-0400
TZNAME:EDT
DTSTART:20250309T070000
END:DAYLIGHT
BEGIN:STANDARD
TZOFFSETFROM:-0400
TZOFFSETTO:-0500
TZNAME:EST
DTSTART:20251102T060000
END:STANDARD
BEGIN:DAYLIGHT
TZOFFSETFROM:-0500
TZOFFSETTO:-0400
TZNAME:EDT
DTSTART:20260308T070000
END:DAYLIGHT
BEGIN:STANDARD
TZOFFSETFROM:-0400
TZOFFSETTO:-0500
TZNAME:EST
DTSTART:20261101T060000
END:STANDARD
BEGIN:DAYLIGHT
TZOFFSETFROM:-0500
TZOFFSETTO:-0400
TZNAME:EDT
DTSTART:20270314T070000
END:DAYLIGHT
BEGIN:STANDARD
TZOFFSETFROM:-0400
TZOFFSETTO:-0500
TZNAME:EST
DTSTART:20271107T060000
END:STANDARD
END:VTIMEZONE
BEGIN:VEVENT
DTSTART;VALUE=DATE:20260831
DTEND;VALUE=DATE:20260905
DTSTAMP:20260421T211557
CREATED:20260216T161832Z
LAST-MODIFIED:20260216T161926Z
UID:10000032-1788134400-1788566399@myrtlebeachconventioncenter.com
SUMMARY:World Am
DESCRIPTION:The 42st Annual Play Golf Myrtle Beach World Amateur Championship so SAVE THE DATES for your return trip to “The Golf Capital of the World® – Monday\, Aug. 31 through Friday\, Sept. 4\, 2026\, to take part in a world-class tournament capturing the one-of-a-kind magic of the Myrtle Beach golf experience! \nLet’s get excited – with inspiration from the 2025 World Am recap highlight video\, courtesy of our friends at 963 Film Group. Check back often with Play Golf Myrtle Beach and the World Am website for new details on early registration and more as they become available. We can’t wait to see you in 2026!
URL:https://myrtlebeachconventioncenter.com/event-calendar/event/world-am/
LOCATION:Myrtle Beach Convention Center\, 2101 North Oak Street\, Myrtle Beach\, SC\, 29577\, United States
CATEGORIES:Public
ATTACH;FMTTYPE=image/png:https://myrtlebeachconventioncenter.com/event-calendar/wp-content/uploads/2026/02/Screenshot-2026-02-16-at-11.17.32-AM.png
END:VEVENT
BEGIN:VEVENT
DTSTART;VALUE=DATE:20260911
DTEND;VALUE=DATE:20260914
DTSTAMP:20260421T211557
CREATED:20260216T165441Z
LAST-MODIFIED:20260216T165441Z
UID:10000039-1789084800-1789343999@myrtlebeachconventioncenter.com
SUMMARY:Home Improvement and Outdoor Living Show
DESCRIPTION:September 11\, 12 & 13\nFriday & Saturday 10am -6pm\nSunday 11am-5pm
URL:https://myrtlebeachconventioncenter.com/event-calendar/event/home-improvement-and-outdoor-living-show/
LOCATION:Myrtle Beach Convention Center\, 2101 North Oak Street\, Myrtle Beach\, SC\, 29577\, United States
CATEGORIES:Public
ATTACH;FMTTYPE=image/png:https://myrtlebeachconventioncenter.com/event-calendar/wp-content/uploads/2026/02/Screenshot-2026-02-16-at-11.50.03-AM.png
ORGANIZER;CN="Horry Georgetown Home Builders Association":MAILTO:info@hghba.com
END:VEVENT
BEGIN:VEVENT
DTSTART;VALUE=DATE:20260914
DTEND;VALUE=DATE:20260916
DTSTAMP:20260421T211557
CREATED:20260216T160054Z
LAST-MODIFIED:20260216T161432Z
UID:10000031-1789344000-1789516799@myrtlebeachconventioncenter.com
SUMMARY:Food Lion Distribution
DESCRIPTION:September is Hunger Action Month\, and with a food insecurity rate of more than 14% in Horry County according to Feeding America’s most recent Map the Meal Gap figures\, Food Lion Feeds and Lowcountry Food Bank (LCFB) partnered last week to host a large-scale food distribution event to support neighbors who face hunger. \nAttendees had the opportunity to hand-select fresh produce\, shelf-stable grocery items\, and cleaning products\, including diapers\, hygiene products and household supplies\, guided by a Food Lion associate volunteer serving as a personal shopper. \nFood Lion and Lowcountry Food Bank leadership were in attendance\, directly engaging with neighbors. The event’s goal was to provide immediate food assistance relief and raise awareness about hunger in the community. \nAt the same time\, Food Lion associates were packing 1\,500 disaster relief boxes\, backpacks\, and care kits for individuals who experience homelessness\, which supports future food distributions by Lowcountry Food Bank. The items packed by Food Lion volunteers were picked up by Lowcountry Food Bank partner agencies/food pantries that distribute food directly to neighbors who need food assistance. \nIn addition to 335 Food Lion associates who volunteered their time at the event\, more than 400 neighbors attended to obtain food assistance. 26\,000 pounds of food\, which equates to more than 21\,000 meals\, were distributed. \nFood Lion also organized fun activities during the event for the neighbors who attended\, along with children’s activities. Representative from Food Lion’s Guiding Star program highlighted healthy food options for attendees. \nFood was distributed farmer’s market-style to enable neighbors to choose the foods they wished to take home. All the food that Food Lion brought to the event was distributed. \nSince 2014\, Food Lion Feeds has partnered with local feeding organizations\, customers and communities through grants and annual campaigns to combat food insecurity and nourish the neighbors in the communities they serve. The organization fills program gaps and boosts their ability to sustainably handle\, store and distribute fresh\, healthy food. \nSince it began\, the foundation has donated more than $17.5 million across its communities. \n“We are incredibly grateful to Food Lion for their work to implement this large-scale food distribution in Myrtle Beach and their long-standing commitment to ensure our communities have access to healthy food alongside us. Their generosity makes a meaningful difference in the lives of the neighbors we serve\,” said Nick Osborne\, President and CEO\, Lowcountry Food Bank. “Our partnership with Food Lion continues to be a cornerstone of our mission. We deeply appreciate all they do to support our communities with compassion and care.” \nIn the three northern-most counties that Lowcountry Food Bank serves\, (Georgetown\, Horry\, and Williamsburg) 15% of the population experiences food insecurity every day\, which equates to more than 67\,000 neighbors in these counties alone\, which means they may not know how they will put food the table. Of this food-insecure population\, more than 22% of children experience food insecurity\, which equates to more than 15\,000 children in these counties. \nFor more information about Food Lion Feeds’ work in the communities it serves\, visit this link. For more information about Lowcountry Food Bank’s work\, visit their website at lowcountryfoodbank.org.
URL:https://myrtlebeachconventioncenter.com/event-calendar/event/food-lion-distribution/
LOCATION:Myrtle Beach Convention Center\, 2101 North Oak Street\, Myrtle Beach\, SC\, 29577\, United States
CATEGORIES:Public
ATTACH;FMTTYPE=image/jpeg:https://myrtlebeachconventioncenter.com/event-calendar/wp-content/uploads/2026/02/Facts-of-Life-1-Food-Lion-team-scaled-e1726860339208.jpg
END:VEVENT
BEGIN:VEVENT
DTSTART;VALUE=DATE:20260920
DTEND;VALUE=DATE:20260924
DTSTAMP:20260421T211557
CREATED:20260216T151805Z
LAST-MODIFIED:20260216T152040Z
UID:10000024-1789862400-1790207999@myrtlebeachconventioncenter.com
SUMMARY:Southeastern Governmental Fleet Managers Association
DESCRIPTION:The Southeast Governmental Fleet Managers Association has been serving professional fleet managers since 1993. This organization has grown to over 950 members which include fleet and public works managers\, supervisors\, purchasing and support personnel. Our members represent cities\, counties\, state\, public service and school districts\, colleges and universities. In 2005 we realized there was a need for the expansion of this organization to include\, not only South Carolina\, but the entire Southeast. \nABOUT \nThe Southeast Governmental Fleet Managers Association has been serving professional fleet managers since 1993. This organization has grown to over 950 members which include fleet and public works managers\, supervisors\, purchasing and support personnel. Our members represent cities\, counties\, state\, public service and school districts\, colleges and universities. In 2005 we realized there was a need for the expansion of this organization to include\, not only South Carolina\, but the entire Southeast. \nOur goals are to provide training sessions and networking opportunities to our members during the year. In addition\, our annual meeting attracts over one hundred exhibitors who offer products and services directly related to your fleet’s operations and technical sessions which address both management and repair related issues. \nIf you have any questions we encourage you to give any of us a call. Also\, please visit our website at www.sgfma.org. We look forward to your agency being a part of the SGFMA. \nThe goal of the SGFMA is: \nTo foster and promote the advancement of the fleet profession through membership\, association\, and assistance to fellow fleet managers. \nTo provide an open forum for the exchange of ideas\, experience\, and information related to the fleet management profession. \nTo develop and promote improved standards and methods for the good management of fleet operations and assets. \nTo seek the improvement of laws and regulations pertaining to fleet administration. \nProvide the exchange of information on procurement\, maintenance\, operation\, and disposition of fleet equipment. \nPromote the professional\, social\, and personal interaction between members of the fleet management profession. \nTo promote improved intergovernmental profession.
URL:https://myrtlebeachconventioncenter.com/event-calendar/event/southeastern-governmental-fleet-managers-association/
LOCATION:Myrtle Beach Convention Center\, 2101 North Oak Street\, Myrtle Beach\, SC\, 29577\, United States
CATEGORIES:Private
ATTACH;FMTTYPE=image/png:https://myrtlebeachconventioncenter.com/event-calendar/wp-content/uploads/2026/02/MBCC-Website-700-x-600-px-12.png
END:VEVENT
BEGIN:VEVENT
DTSTART;VALUE=DATE:20260923
DTEND;VALUE=DATE:20260926
DTSTAMP:20260421T211557
CREATED:20260216T145805Z
LAST-MODIFIED:20260216T145805Z
UID:10000018-1790121600-1790380799@myrtlebeachconventioncenter.com
SUMMARY:Southeast Christian Schools Association
DESCRIPTION:The South Carolina Association of Christian Schools began in 1967 and is an organization of 80 member schools with a combined enrollment of nearly 11\,000. Although most of the schools are church sponsored\, SCACS is not an organization of churches. It is an association of schools. A diversity of schools make up our membership and are sponsored by Independent Baptist\, Southern Baptist\, Southern Methodist\, Free Will Baptist\, Bible Baptist\, Presbyterian Church of America\, Wesleyan\, Bible Church\, and others. \nA few of the schools are sponsored by independent religious\, educational organizations.
URL:https://myrtlebeachconventioncenter.com/event-calendar/event/southeast-christian-schools-association/
LOCATION:Myrtle Beach Convention Center\, 2101 North Oak Street\, Myrtle Beach\, SC\, 29577\, United States
CATEGORIES:Private
ATTACH;FMTTYPE=image/png:https://myrtlebeachconventioncenter.com/event-calendar/wp-content/uploads/2026/02/MBCC-Website-700-x-600-px-19.png
END:VEVENT
BEGIN:VEVENT
DTSTART;VALUE=DATE:20260930
DTEND;VALUE=DATE:20261002
DTSTAMP:20260421T211557
CREATED:20260216T152305Z
LAST-MODIFIED:20260216T152305Z
UID:10000025-1790726400-1790899199@myrtlebeachconventioncenter.com
SUMMARY:Wyatt Quarles Fall Dealer Show
DESCRIPTION:Wyatt-Quarles Seed Company is a wholesale distributor that gladly serves Independent Garden Centers\, Hardware Stores\, Feed and Seed Stores\, and Professional Growers.
URL:https://myrtlebeachconventioncenter.com/event-calendar/event/wyatt-quarles-fall-dealer-show/
LOCATION:Myrtle Beach Convention Center\, 2101 North Oak Street\, Myrtle Beach\, SC\, 29577\, United States
CATEGORIES:Private
ATTACH;FMTTYPE=image/png:https://myrtlebeachconventioncenter.com/event-calendar/wp-content/uploads/2026/02/MBCC-Website-700-x-600-px-11.png
END:VEVENT
END:VCALENDAR