BEGIN:VCALENDAR
VERSION:2.0
PRODID:-//Myrtle Beach Events Calendar - ECPv6.15.16.1//NONSGML v1.0//EN
CALSCALE:GREGORIAN
METHOD:PUBLISH
X-WR-CALNAME:Myrtle Beach Events Calendar
X-ORIGINAL-URL:https://myrtlebeachconventioncenter.com/event-calendar
X-WR-CALDESC:Events for Myrtle Beach Events Calendar
REFRESH-INTERVAL;VALUE=DURATION:PT1H
X-Robots-Tag:noindex
X-PUBLISHED-TTL:PT1H
BEGIN:VTIMEZONE
TZID:America/New_York
BEGIN:DAYLIGHT
TZOFFSETFROM:-0500
TZOFFSETTO:-0400
TZNAME:EDT
DTSTART:20250309T070000
END:DAYLIGHT
BEGIN:STANDARD
TZOFFSETFROM:-0400
TZOFFSETTO:-0500
TZNAME:EST
DTSTART:20251102T060000
END:STANDARD
BEGIN:DAYLIGHT
TZOFFSETFROM:-0500
TZOFFSETTO:-0400
TZNAME:EDT
DTSTART:20260308T070000
END:DAYLIGHT
BEGIN:STANDARD
TZOFFSETFROM:-0400
TZOFFSETTO:-0500
TZNAME:EST
DTSTART:20261101T060000
END:STANDARD
BEGIN:DAYLIGHT
TZOFFSETFROM:-0500
TZOFFSETTO:-0400
TZNAME:EDT
DTSTART:20270314T070000
END:DAYLIGHT
BEGIN:STANDARD
TZOFFSETFROM:-0400
TZOFFSETTO:-0500
TZNAME:EST
DTSTART:20271107T060000
END:STANDARD
END:VTIMEZONE
BEGIN:VEVENT
DTSTART;VALUE=DATE:20260930
DTEND;VALUE=DATE:20261002
DTSTAMP:20260421T211239
CREATED:20260216T152305Z
LAST-MODIFIED:20260216T152305Z
UID:10000025-1790726400-1790899199@myrtlebeachconventioncenter.com
SUMMARY:Wyatt Quarles Fall Dealer Show
DESCRIPTION:Wyatt-Quarles Seed Company is a wholesale distributor that gladly serves Independent Garden Centers\, Hardware Stores\, Feed and Seed Stores\, and Professional Growers.
URL:https://myrtlebeachconventioncenter.com/event-calendar/event/wyatt-quarles-fall-dealer-show/
LOCATION:Myrtle Beach Convention Center\, 2101 North Oak Street\, Myrtle Beach\, SC\, 29577\, United States
CATEGORIES:Private
ATTACH;FMTTYPE=image/png:https://myrtlebeachconventioncenter.com/event-calendar/wp-content/uploads/2026/02/MBCC-Website-700-x-600-px-11.png
END:VEVENT
BEGIN:VEVENT
DTSTART;VALUE=DATE:20261006
DTEND;VALUE=DATE:20261009
DTSTAMP:20260421T211239
CREATED:20260216T163319Z
LAST-MODIFIED:20260216T163443Z
UID:10000035-1791244800-1791503999@myrtlebeachconventioncenter.com
SUMMARY:Box Drop National Sales Conference
DESCRIPTION:Every year\, BoxDrop hosts an event that’s buzzing with energy\, inspiration\, and powerful connections – our National Conference. It’s not just any gathering; it’s the epicenter of learning and networking where over 400 entrepreneurial minds unite. Imagine a place where the brightest in the business converge to share stories\, gain invaluable marketing training\, and fuel their growth. \nLet’s take a closer look at why our National Conference is a can’t-miss event for current and aspiring BoxDrop franchisees.
URL:https://myrtlebeachconventioncenter.com/event-calendar/event/box-drop-national-sales-conference/
LOCATION:Myrtle Beach Convention Center\, 2101 North Oak Street\, Myrtle Beach\, SC\, 29577\, United States
CATEGORIES:Private
ATTACH;FMTTYPE=image/png:https://myrtlebeachconventioncenter.com/event-calendar/wp-content/uploads/2026/02/MBCC-Website-700-x-600-px-24-1.png
ORGANIZER;CN="BoxDrop":MAILTO:https://boxdropfranchise.com/
END:VEVENT
BEGIN:VEVENT
DTSTART;VALUE=DATE:20261011
DTEND;VALUE=DATE:20261015
DTSTAMP:20260421T211239
CREATED:20260216T140826Z
LAST-MODIFIED:20260216T140826Z
UID:10000008-1791676800-1792022399@myrtlebeachconventioncenter.com
SUMMARY:Government Finance Officers Association of South Carolina
DESCRIPTION:With more than 600 members\, the GFOA of South Carolina seeks to promote the professional competence of individuals who are responsible for and who are held in the trust of public funds. Join today!
URL:https://myrtlebeachconventioncenter.com/event-calendar/event/government-finance-officers-association-of-south-carolina/
LOCATION:Myrtle Beach Convention Center\, 2101 North Oak Street\, Myrtle Beach\, SC\, 29577\, United States
CATEGORIES:Private
ATTACH;FMTTYPE=image/png:https://myrtlebeachconventioncenter.com/event-calendar/wp-content/uploads/2026/02/Screenshot-2026-02-16-at-9.03.14-AM.png
END:VEVENT
BEGIN:VEVENT
DTSTART;VALUE=DATE:20261015
DTEND;VALUE=DATE:20261017
DTSTAMP:20260421T211239
CREATED:20260216T164255Z
LAST-MODIFIED:20260216T164322Z
UID:10000037-1792022400-1792195199@myrtlebeachconventioncenter.com
SUMMARY:School Nutrition Assn. Food Expo.
DESCRIPTION:The School Nutrition Association (SNA) empowers and supports 50\,000+ school nutrition professionals in advancing the accessibility\, quality and integrity of school nutrition programs to advance our mission of well-nourished students\, prepared to succeed. Our vision is that every student has access to nutritious meals at school\, ensuring their optimal health and well-being.
URL:https://myrtlebeachconventioncenter.com/event-calendar/event/school-nutrition-assn-food-expo/
LOCATION:Myrtle Beach Convention Center\, 2101 North Oak Street\, Myrtle Beach\, SC\, 29577\, United States
CATEGORIES:Private
ATTACH;FMTTYPE=image/jpeg:https://myrtlebeachconventioncenter.com/event-calendar/wp-content/uploads/2026/02/481240981_1064066209094829_8600331449043680904_n.jpg
ORGANIZER;CN="SNA":MAILTO:servicecenter@schoolnutrition.org
END:VEVENT
BEGIN:VEVENT
DTSTART;VALUE=DATE:20261019
DTEND;VALUE=DATE:20261023
DTSTAMP:20260421T211239
CREATED:20260216T145027Z
LAST-MODIFIED:20260216T145115Z
UID:10000016-1792368000-1792713599@myrtlebeachconventioncenter.com
SUMMARY:Capstone
DESCRIPTION:We Center the Success of Our Members in All We Do\nCapstone not only provides exclusive pricing on the supplies your organization needs\, but also optimizes your supply chain management. As a Capstone Member\, you will receive top dollar savings and value\, and have access to so much more. Between cost-saving and cost-avoidant contracts\, a dedicated Capstone Member Services Team\, Business Analytics\, and unique Educational opportunities\, joining Capstone is a strategic solution for your organization and an investment in your success. \n\n\nWith the collective purchasing power of our Members\, Capstone contracting agents negotiate deep discounts\, favorable terms\, and priority service from an expanding array of vendors\, allowing you to confidently work with the highest caliber Suppliers\, all the while knowing you have saved your company both time and money. \nOn average\, a business that utilizes Capstone contracts can expect to save 10%-40% on goods and services\, both new and many already in use. Capstone assists our Members in securing over $80M in savings and value each year.  \n\n\nNot only does Capstone optimize your purchasing power as an industry-leading GPO\, as a Capstone Member\, you receive exclusive additional benefits. \nWe are proud to provide each of our Members a dedicated Director of Member Services to help you navigate our robust catalog of Supplier partners and the savings available to you. Your Director will become an extension of your supply chain team\, supporting you through every step. \nWe are committed to empowering the next generation of healthcare leaders. The Capstone Education Library provides continuing educational opportunities to our Members at no additional cost. Connecting with a community of industry-leading experts can expand your knowledge and elevate your team Members to new heights. \nCapstone’s Business Analytics is tailored uniquely to your organization\, empowering you to execute precise and thorough supply chain strategies. Our data is customized to address your specific needs\, providing valuable insights to elevate your competitive edge.
URL:https://myrtlebeachconventioncenter.com/event-calendar/event/capstone/
LOCATION:Myrtle Beach Convention Center\, 2101 North Oak Street\, Myrtle Beach\, SC\, 29577\, United States
CATEGORIES:Private
ATTACH;FMTTYPE=image/png:https://myrtlebeachconventioncenter.com/event-calendar/wp-content/uploads/2026/02/MBCC-Website-700-x-600-px-24.png
END:VEVENT
BEGIN:VEVENT
DTSTART;VALUE=DATE:20261023
DTEND;VALUE=DATE:20261025
DTSTAMP:20260421T211239
CREATED:20260216T170053Z
LAST-MODIFIED:20260216T170135Z
UID:10000040-1792713600-1792886399@myrtlebeachconventioncenter.com
SUMMARY:Myrtle Beach RV Show
DESCRIPTION:Featuring the very latest makes and models of Recreational Vehicles from all of the nations top manufacturers. Special factory rebates\, financing\, and on the spot loan approval makes this show a can’t miss for the serious RV enthusiasts!
URL:https://myrtlebeachconventioncenter.com/event-calendar/event/myrtle-beach-rv-show/
LOCATION:Myrtle Beach Convention Center\, 2101 North Oak Street\, Myrtle Beach\, SC\, 29577\, United States
CATEGORIES:Public
ATTACH;FMTTYPE=image/png:https://myrtlebeachconventioncenter.com/event-calendar/wp-content/uploads/2026/02/Screenshot-2026-02-16-at-12.00.02-PM.png
END:VEVENT
BEGIN:VEVENT
DTSTART;VALUE=DATE:20261027
DTEND;VALUE=DATE:20261031
DTSTAMP:20260421T211239
CREATED:20260216T143528Z
LAST-MODIFIED:20260216T143651Z
UID:10000013-1793059200-1793404799@myrtlebeachconventioncenter.com
SUMMARY:South Carolina EdTech 2026
DESCRIPTION:The SC EdTech Conference aims to unite educators\, administrators\, technology professionals\, and industry representatives to enhance the use of educational technology in dynamic learning environments. It features over 200 professional development and training sessions\, including key events like the Women in Technology Leadership Breakfast & Summit and new networking sessions.
URL:https://myrtlebeachconventioncenter.com/event-calendar/event/south-carolina-edtech-2026/
LOCATION:Myrtle Beach Convention Center\, 2101 North Oak Street\, Myrtle Beach\, SC\, 29577\, United States
CATEGORIES:Private
ATTACH;FMTTYPE=image/png:https://myrtlebeachconventioncenter.com/event-calendar/wp-content/uploads/2026/02/MBCC-Website-700-x-600-px-27.png
END:VEVENT
BEGIN:VEVENT
DTSTART;VALUE=DATE:20261031
DTEND;VALUE=DATE:20261102
DTSTAMP:20260421T211239
CREATED:20260216T154648Z
LAST-MODIFIED:20260216T154648Z
UID:10000029-1793404800-1793577599@myrtlebeachconventioncenter.com
SUMMARY:C & E Gun Show
DESCRIPTION:Public Information:\nAdmission fee: $12.00 per adult\, children 12 and under FREE\nShow hours: Saturday 9 am – 5 pm\nSunday 10 am – 4 pm \nVendor Information:\n500 8′ tables\, $75.00 per table\, electric $95.00\nSet up hours: Friday 12 pm – 8 pm\nSaturday 7 am – 9 am \nOur Mission\nAt C & E Gun Shows\, Inc.\, our mission is to provide a safe\, fun\, and inclusive environment for you to buy\, sell or trade shooting sport or personal protection items. We have successfully been running gun shows since 1986 and we look forward to serving you for years to come.
URL:https://myrtlebeachconventioncenter.com/event-calendar/event/c-e-gun-show/
LOCATION:Myrtle Beach Convention Center\, 2101 North Oak Street\, Myrtle Beach\, SC\, 29577\, United States
CATEGORIES:Public
ATTACH;FMTTYPE=image/png:https://myrtlebeachconventioncenter.com/event-calendar/wp-content/uploads/2026/02/MBCC-Website-700-x-600-px-7.png
END:VEVENT
END:VCALENDAR