BEGIN:VCALENDAR
VERSION:2.0
PRODID:-//Myrtle Beach Events Calendar - ECPv6.15.16.1//NONSGML v1.0//EN
CALSCALE:GREGORIAN
METHOD:PUBLISH
X-ORIGINAL-URL:https://myrtlebeachconventioncenter.com/event-calendar
X-WR-CALDESC:Events for Myrtle Beach Events Calendar
REFRESH-INTERVAL;VALUE=DURATION:PT1H
X-Robots-Tag:noindex
X-PUBLISHED-TTL:PT1H
BEGIN:VTIMEZONE
TZID:America/New_York
BEGIN:DAYLIGHT
TZOFFSETFROM:-0500
TZOFFSETTO:-0400
TZNAME:EDT
DTSTART:20250309T070000
END:DAYLIGHT
BEGIN:STANDARD
TZOFFSETFROM:-0400
TZOFFSETTO:-0500
TZNAME:EST
DTSTART:20251102T060000
END:STANDARD
BEGIN:DAYLIGHT
TZOFFSETFROM:-0500
TZOFFSETTO:-0400
TZNAME:EDT
DTSTART:20260308T070000
END:DAYLIGHT
BEGIN:STANDARD
TZOFFSETFROM:-0400
TZOFFSETTO:-0500
TZNAME:EST
DTSTART:20261101T060000
END:STANDARD
BEGIN:DAYLIGHT
TZOFFSETFROM:-0500
TZOFFSETTO:-0400
TZNAME:EDT
DTSTART:20270314T070000
END:DAYLIGHT
BEGIN:STANDARD
TZOFFSETFROM:-0400
TZOFFSETTO:-0500
TZNAME:EST
DTSTART:20271107T060000
END:STANDARD
END:VTIMEZONE
BEGIN:VEVENT
DTSTART;VALUE=DATE:20260620
DTEND;VALUE=DATE:20260626
DTSTAMP:20260421T180255
CREATED:20260216T141812Z
LAST-MODIFIED:20260216T141838Z
UID:10000011-1781913600-1782431999@myrtlebeachconventioncenter.com
SUMMARY:Dance Makers
DESCRIPTION:Where You Are\nYou don’t have to be somewhere else\, someone else\, or further along. Right here\, right now\, you are exactly where you’re meant to be.\nThis tour is an invitation — to breathe\, to move\, to hope\, and to know you’re not alone.\nTogether\, we’ll celebrate the beauty of the journey. Not someday\, but today.\nCome as you are. Be renewed. Leave changed. Where You Are.
URL:https://myrtlebeachconventioncenter.com/event-calendar/event/dance-makers/
LOCATION:Myrtle Beach Convention Center\, 2101 North Oak Street\, Myrtle Beach\, SC\, 29577\, United States
CATEGORIES:Public
ATTACH;FMTTYPE=image/jpeg:https://myrtlebeachconventioncenter.com/event-calendar/wp-content/uploads/2026/02/326698032_715140043604180_3945947666930974575_n-870x600-1.jpg
END:VEVENT
END:VCALENDAR