BEGIN:VCALENDAR
VERSION:2.0
PRODID:-//Myrtle Beach Events Calendar - ECPv6.15.16.1//NONSGML v1.0//EN
CALSCALE:GREGORIAN
METHOD:PUBLISH
X-WR-CALNAME:Myrtle Beach Events Calendar
X-ORIGINAL-URL:https://myrtlebeachconventioncenter.com/event-calendar
X-WR-CALDESC:Events for Myrtle Beach Events Calendar
REFRESH-INTERVAL;VALUE=DURATION:PT1H
X-Robots-Tag:noindex
X-PUBLISHED-TTL:PT1H
BEGIN:VTIMEZONE
TZID:America/New_York
BEGIN:DAYLIGHT
TZOFFSETFROM:-0500
TZOFFSETTO:-0400
TZNAME:EDT
DTSTART:20250309T070000
END:DAYLIGHT
BEGIN:STANDARD
TZOFFSETFROM:-0400
TZOFFSETTO:-0500
TZNAME:EST
DTSTART:20251102T060000
END:STANDARD
BEGIN:DAYLIGHT
TZOFFSETFROM:-0500
TZOFFSETTO:-0400
TZNAME:EDT
DTSTART:20260308T070000
END:DAYLIGHT
BEGIN:STANDARD
TZOFFSETFROM:-0400
TZOFFSETTO:-0500
TZNAME:EST
DTSTART:20261101T060000
END:STANDARD
BEGIN:DAYLIGHT
TZOFFSETFROM:-0500
TZOFFSETTO:-0400
TZNAME:EDT
DTSTART:20270314T070000
END:DAYLIGHT
BEGIN:STANDARD
TZOFFSETFROM:-0400
TZOFFSETTO:-0500
TZNAME:EST
DTSTART:20271107T060000
END:STANDARD
END:VTIMEZONE
BEGIN:VEVENT
DTSTART;VALUE=DATE:20260610
DTEND;VALUE=DATE:20260614
DTSTAMP:20260421T211433
CREATED:20260216T150852Z
LAST-MODIFIED:20260216T150852Z
UID:10000022-1781049600-1781395199@myrtlebeachconventioncenter.com
SUMMARY:South Carolina State Firefighters Association
DESCRIPTION:Held in Myrtle Beach each June\, this conference is seminar-based learning scheduled in 4-hour or 1 1/2 hour blocks. We are always looking for unique classes and topics for Fire and EMS education. \nOur Mission \nThe South Carolina State Firefighters’ Association was founded in 1905 by a group of determined fire service leaders committed to strengthening the fire service through education\, training\, benefit provision\, and legislative representation. Today\, our mission stands: to serve the membership as the leader in fire service advocacy\, benefits\, education\, and safety\, while acting as the steward of the Firemen’s Insurance and Inspection Fund. \nTo fulfill this mission\, the Association is supported by a family of programs and organizations that extend our reach and impact. These include the South Carolina Firefighters Foundation\, the South Carolina Burned Children’s Fund (operating under the Foundation)\, the South Carolina Firefighters Insurance Services\, and the South Carolina Firefighters Assistance Team. \nStanding proudly within this family—but deserving special recognition—is the South Carolina Fire Heritage Center and Museum\, a premier initiative of the Foundation dedicated to preserving\, celebrating\, and sharing the rich history and legacy of the South Carolina fire service. The Heritage Center serves as a statewide treasure\, honoring those who came before us while inspiring future generations. \nOur Values \nThe South Carolina State Firefighters’ Association expresses a reiteration of the values expressed in the Maltese cross points – representative of the profession which we serve – that are: sympathy\, gallantry\, perseverance\, loyalty\, dexterity\, explicitness\, observation\, and tact. The Association feels that sharing of the qualities of our members greater enhances our collaboration and cooperation and best describes how we will conduct ourselves\, our business\, and our representation for our members.
URL:https://myrtlebeachconventioncenter.com/event-calendar/event/south-carolina-state-firefighters-association/
LOCATION:Myrtle Beach Convention Center\, 2101 North Oak Street\, Myrtle Beach\, SC\, 29577\, United States
CATEGORIES:Private
ATTACH;FMTTYPE=image/png:https://myrtlebeachconventioncenter.com/event-calendar/wp-content/uploads/2026/02/MBCC-Website-700-x-600-px-15.png
END:VEVENT
END:VCALENDAR