BEGIN:VCALENDAR
VERSION:2.0
PRODID:-//Myrtle Beach Events Calendar - ECPv6.15.16.1//NONSGML v1.0//EN
CALSCALE:GREGORIAN
METHOD:PUBLISH
X-ORIGINAL-URL:https://myrtlebeachconventioncenter.com/event-calendar
X-WR-CALDESC:Events for Myrtle Beach Events Calendar
REFRESH-INTERVAL;VALUE=DURATION:PT1H
X-Robots-Tag:noindex
X-PUBLISHED-TTL:PT1H
BEGIN:VTIMEZONE
TZID:America/New_York
BEGIN:DAYLIGHT
TZOFFSETFROM:-0500
TZOFFSETTO:-0400
TZNAME:EDT
DTSTART:20250309T070000
END:DAYLIGHT
BEGIN:STANDARD
TZOFFSETFROM:-0400
TZOFFSETTO:-0500
TZNAME:EST
DTSTART:20251102T060000
END:STANDARD
BEGIN:DAYLIGHT
TZOFFSETFROM:-0500
TZOFFSETTO:-0400
TZNAME:EDT
DTSTART:20260308T070000
END:DAYLIGHT
BEGIN:STANDARD
TZOFFSETFROM:-0400
TZOFFSETTO:-0500
TZNAME:EST
DTSTART:20261101T060000
END:STANDARD
BEGIN:DAYLIGHT
TZOFFSETFROM:-0500
TZOFFSETTO:-0400
TZNAME:EDT
DTSTART:20270314T070000
END:DAYLIGHT
BEGIN:STANDARD
TZOFFSETFROM:-0400
TZOFFSETTO:-0500
TZNAME:EST
DTSTART:20271107T060000
END:STANDARD
END:VTIMEZONE
BEGIN:VEVENT
DTSTART;VALUE=DATE:20261027
DTEND;VALUE=DATE:20261031
DTSTAMP:20260421T142333
CREATED:20260216T143528Z
LAST-MODIFIED:20260216T143651Z
UID:10000013-1793059200-1793404799@myrtlebeachconventioncenter.com
SUMMARY:South Carolina EdTech 2026
DESCRIPTION:The SC EdTech Conference aims to unite educators\, administrators\, technology professionals\, and industry representatives to enhance the use of educational technology in dynamic learning environments. It features over 200 professional development and training sessions\, including key events like the Women in Technology Leadership Breakfast & Summit and new networking sessions.
URL:https://myrtlebeachconventioncenter.com/event-calendar/event/south-carolina-edtech-2026/
LOCATION:Myrtle Beach Convention Center\, 2101 North Oak Street\, Myrtle Beach\, SC\, 29577\, United States
CATEGORIES:Private
ATTACH;FMTTYPE=image/png:https://myrtlebeachconventioncenter.com/event-calendar/wp-content/uploads/2026/02/MBCC-Website-700-x-600-px-27.png
END:VEVENT
END:VCALENDAR